BEGIN:VCALENDAR
VERSION:2.0
PRODID:-//ZOSPRP - ECPv6.14.0//NONSGML v1.0//EN
CALSCALE:GREGORIAN
METHOD:PUBLISH
X-ORIGINAL-URL:https://zosprp.pl
X-WR-CALDESC:Wydarzenia dla ZOSPRP
REFRESH-INTERVAL;VALUE=DURATION:PT1H
X-Robots-Tag:noindex
X-PUBLISHED-TTL:PT1H
BEGIN:VTIMEZONE
TZID:Europe/Warsaw
BEGIN:DAYLIGHT
TZOFFSETFROM:+0100
TZOFFSETTO:+0200
TZNAME:CEST
DTSTART:20230326T010000
END:DAYLIGHT
BEGIN:STANDARD
TZOFFSETFROM:+0200
TZOFFSETTO:+0100
TZNAME:CET
DTSTART:20231029T010000
END:STANDARD
END:VTIMEZONE
BEGIN:VEVENT
DTSTART;VALUE=DATE:20230823
DTEND;VALUE=DATE:20230827
DTSTAMP:20260423T190116
CREATED:20230705T080547Z
LAST-MODIFIED:20230705T082700Z
UID:10723-1692748800-1693094399@zosprp.pl
SUMMARY:Zawody Sportowo-Pożarnicze
DESCRIPTION:Ogólnopolskie Zawody Sportowo-Pożarnicze MDP CTIF \nKrajowe Zawody Sportowo-Pożarnicze Ochotniczych Straży Pożarnych \nW dniach 23-26 sierpnia 2023 r. w Kalwarii Zebrzydowskiej w województwie małopolskim odbędą się Krajowe Zawody Sportowo-Pożarnicze Ochotniczych Straży Pożarnych oraz Ogólnopolskie Zawody Sportowo-Pożarnicze Młodzieżowych Drużyn Pożarniczych wg. regulaminu CTIF będącymi eliminacjami do Olimpiady Strażackiej CTIF MDP w 2024 roku. Zawody przeprowadzane będą na Stadionie Miejskim Kalwarianka. W zawodach weźmie 38 drużyn Młodzieżowych Drużyn Pożarniczych\, 38 drużyn Ochotniczych Straży Pożarnych.
URL:https://zosprp.pl/wydarzenie/10723/
LOCATION:Stadion Miejski Kalwarianka\, Kalwaria Zebrzydowska\, małopolskie\, Poland
END:VEVENT
END:VCALENDAR