BEGIN:VCALENDAR
VERSION:2.0
PRODID:-//ZOSPRP - ECPv6.14.0//NONSGML v1.0//EN
CALSCALE:GREGORIAN
METHOD:PUBLISH
X-WR-CALNAME:ZOSPRP
X-ORIGINAL-URL:https://zosprp.pl
X-WR-CALDESC:Wydarzenia dla ZOSPRP
REFRESH-INTERVAL;VALUE=DURATION:PT1H
X-Robots-Tag:noindex
X-PUBLISHED-TTL:PT1H
BEGIN:VTIMEZONE
TZID:Europe/Warsaw
BEGIN:DAYLIGHT
TZOFFSETFROM:+0100
TZOFFSETTO:+0200
TZNAME:CEST
DTSTART:20220327T010000
END:DAYLIGHT
BEGIN:STANDARD
TZOFFSETFROM:+0200
TZOFFSETTO:+0100
TZNAME:CET
DTSTART:20221030T010000
END:STANDARD
END:VTIMEZONE
BEGIN:VEVENT
DTSTART;VALUE=DATE:20220610
DTEND;VALUE=DATE:20220613
DTSTAMP:20260423T190012
CREATED:20220606T082622Z
LAST-MODIFIED:20220606T082622Z
UID:7188-1654819200-1655078399@zosprp.pl
SUMMARY:Mistrzostwa w Ratownictwie w Ramach KPP
DESCRIPTION:XIV Ogólnopolskie Mistrzostwa w Ratownictwie w Ramach Kwalifikowanej Pierwszej Pomocy 10-12/06.2022 r. \nOrganizator: Ochotnicza Straż Pożarna w Barczewie \nIdeą zawodów jest popularyzacja szeroko pojętego ratownictwa\, integracja i wymiana doświadczeń ratowników z różnych grup ratowniczych tj. OSP\, PSP\, WOPR\, GOPR\, Policji\, uczelni medycznych\, PCK\, CPR 112\, Ratowników Górniczych z KGHM\, harcerzy\, itp. \nImpreza ma charakter otwarty i zgłosić się może każdy zespół\, który chce spróbować swoich sił w konkurencjach ratowniczych tj. pozoracja m.in. wypadków drogowych\, wypadków w miejscach pracy\, odebrania porodu\, amputacji kończyn\, nagłe zatrzymanie krążenia\, pomoc psychologiczna.
URL:https://zosprp.pl/wydarzenie/mistrzostwa-w-ratownictwie-w-ramach-kpp/
LOCATION:Barczewo\, warmińsko-mazurskie\, Poland
END:VEVENT
END:VCALENDAR