BEGIN:VCALENDAR
VERSION:2.0
PRODID:-//ZOSPRP - ECPv6.14.0//NONSGML v1.0//EN
CALSCALE:GREGORIAN
METHOD:PUBLISH
X-WR-CALNAME:ZOSPRP
X-ORIGINAL-URL:https://zosprp.pl
X-WR-CALDESC:Wydarzenia dla ZOSPRP
REFRESH-INTERVAL;VALUE=DURATION:PT1H
X-Robots-Tag:noindex
X-PUBLISHED-TTL:PT1H
BEGIN:VTIMEZONE
TZID:Europe/Warsaw
BEGIN:DAYLIGHT
TZOFFSETFROM:+0100
TZOFFSETTO:+0200
TZNAME:CEST
DTSTART:20220327T010000
END:DAYLIGHT
BEGIN:STANDARD
TZOFFSETFROM:+0200
TZOFFSETTO:+0100
TZNAME:CET
DTSTART:20221030T010000
END:STANDARD
BEGIN:DAYLIGHT
TZOFFSETFROM:+0100
TZOFFSETTO:+0200
TZNAME:CEST
DTSTART:20230326T010000
END:DAYLIGHT
BEGIN:STANDARD
TZOFFSETFROM:+0200
TZOFFSETTO:+0100
TZNAME:CET
DTSTART:20231029T010000
END:STANDARD
BEGIN:DAYLIGHT
TZOFFSETFROM:+0100
TZOFFSETTO:+0200
TZNAME:CEST
DTSTART:20240331T010000
END:DAYLIGHT
BEGIN:STANDARD
TZOFFSETFROM:+0200
TZOFFSETTO:+0100
TZNAME:CET
DTSTART:20241027T010000
END:STANDARD
END:VTIMEZONE
BEGIN:VEVENT
DTSTART;VALUE=DATE:20240608
DTEND;VALUE=DATE:20240610
DTSTAMP:20260423T185642
CREATED:20240213T085326Z
LAST-MODIFIED:20240422T135053Z
UID:12796-1717804800-1717977599@zosprp.pl
SUMMARY:Ogólnopolski Turniej Wiedzy Pożarniczej
DESCRIPTION:XLVI finał centralny Ogólnopolskiego Turnieju Wiedzy Pożarniczej “Młodzież zapobiega pożarom” 08-09.06.2024r. Miejsce realizacji: Gąsawa i Biskupin woj. kujawsko-pomorskie. \nW OTWP uczestniczą dzieci i młodzież w trzech grupach: I grupa – uczniowie szkół podstawowych\, klasy I-IV\, II grupa – uczniowie szkół podstawowych\, klasy V-VIII\, III grupa – uczniowie szkół ponadpodstawowych. W finale centralnym startują laureaci pierwszego i drugiego miejsca szczebla wojewódzkiego. Finał centralny składa się z dwóch części: eliminacji pisemnej oraz ścisłego finału ustnego.
URL:https://zosprp.pl/wydarzenie/ogolnopolski-turniej-wiedzy-pozarniczej/
END:VEVENT
BEGIN:VEVENT
DTSTART;VALUE=DATE:20230603
DTEND;VALUE=DATE:20230605
DTSTAMP:20260423T185642
CREATED:20230201T114437Z
LAST-MODIFIED:20230201T114437Z
UID:9093-1685750400-1685923199@zosprp.pl
SUMMARY:XLV Ogólnopolski Turniej Wiedzy Pożarniczej
DESCRIPTION:45. finał centralny Ogólnopolskiego Turnieju Wiedzy Pożarniczej “Młodzież zapobiega pożarom” odbędzie się w dniach 3-4 czerwca 2023 roku we Wrześni.\nMiejscem realizacji będzie Centrum Badań i Rozwoju Nowoczesnych Technologii CBiRNT w Grzymysławicach. \nW finale centralnym startują laureaci pierwszego i drugiego miejsca szczebla wojewódzkiego w trzech grupach:\nI grupa – uczniowie szkół podstawowych klasy I-IV\nII grupa – uczniowie szkół podstawowych klasy V-VIII\nIII grupa – uczniowie szkół ponadpodstawowych. \nFinał centralny składa się z dwóch części:\n– eliminacje pisemne\n– finał część 1. zadania praktyczne\, część 2. ustny
URL:https://zosprp.pl/wydarzenie/xlv-ogolnopolski-turniej-wiedzy-pozarniczej/
LOCATION:Września
END:VEVENT
BEGIN:VEVENT
DTSTART;VALUE=DATE:20220625
DTEND;VALUE=DATE:20220627
DTSTAMP:20260423T185642
CREATED:20220606T083108Z
LAST-MODIFIED:20220610T073737Z
UID:7194-1656115200-1656287999@zosprp.pl
SUMMARY:Ogólnopolski Turniej Wiedzy Pożarniczej
DESCRIPTION:XLIV finał centralny Ogólnopolskiego Turnieju Wiedzy Pożarniczej “Młodzież zapobiega pożarom” pod honorowym patronatem Ministra Klimatu i Środowiska i Dyrektora Generalnego Lasów Państwowych. 25.-26.06.2022r. Technikum Leśne im. prof. Władysława Jedlińskiego w Miliczu \nW OTWP uczestniczą dzieci i młodzież w trzech grupach: I grupa – uczniowie szkół podstawowych\, klasy I-IV\, II grupa – uczniowie szkół podstawowych\, klasy V-VIII\, III grupa – uczniowie szkół ponadpodstawowych. W finale centralnym startują laureaci pierwszego i drugiego miejsca szczebla wojewódzkiego. Finał centralny składa się z dwóch części: eliminacji pisemnej oraz ścisłego finału ustnego.
URL:https://zosprp.pl/wydarzenie/otwp/
LOCATION:Milicz\, dolnośląskie
END:VEVENT
END:VCALENDAR