BEGIN:VCALENDAR
VERSION:2.0
PRODID:-//ZOSPRP - ECPv6.14.0//NONSGML v1.0//EN
CALSCALE:GREGORIAN
METHOD:PUBLISH
X-ORIGINAL-URL:https://zosprp.pl
X-WR-CALDESC:Wydarzenia dla ZOSPRP
REFRESH-INTERVAL;VALUE=DURATION:PT1H
X-Robots-Tag:noindex
X-PUBLISHED-TTL:PT1H
BEGIN:VTIMEZONE
TZID:Europe/Warsaw
BEGIN:DAYLIGHT
TZOFFSETFROM:+0100
TZOFFSETTO:+0200
TZNAME:CEST
DTSTART:20230326T010000
END:DAYLIGHT
BEGIN:STANDARD
TZOFFSETFROM:+0200
TZOFFSETTO:+0100
TZNAME:CET
DTSTART:20231029T010000
END:STANDARD
BEGIN:DAYLIGHT
TZOFFSETFROM:+0100
TZOFFSETTO:+0200
TZNAME:CEST
DTSTART:20240331T010000
END:DAYLIGHT
BEGIN:STANDARD
TZOFFSETFROM:+0200
TZOFFSETTO:+0100
TZNAME:CET
DTSTART:20241027T010000
END:STANDARD
END:VTIMEZONE
BEGIN:VEVENT
DTSTART;VALUE=DATE:20240601
DTEND;VALUE=DATE:20240603
DTSTAMP:20260423T185846
CREATED:20240213T103703Z
LAST-MODIFIED:20240213T103703Z
UID:12839-1717200000-1717372799@zosprp.pl
SUMMARY:Olimpiada DDP
DESCRIPTION:IV Międzynarodowa Olimpiada Dziecięcych Drużyn Pożarniczych 2024
URL:https://zosprp.pl/wydarzenie/olimpiada-ddp/
LOCATION:Wieruszów\, Wieruszów\, łódzkie
END:VEVENT
BEGIN:VEVENT
DTSTART;VALUE=DATE:20230305
DTEND;VALUE=DATE:20230306
DTSTAMP:20260423T185846
CREATED:20230201T110711Z
LAST-MODIFIED:20230201T111148Z
UID:9085-1677974400-1678060799@zosprp.pl
SUMMARY:II Ogólnopolskie Halowe Zawody MDP
DESCRIPTION:Przebieg zawodów oparty jest w znacznym stopniu na Regulaminie CTIF – przystosowanym na potrzeby halowe\, np. zamiast hydronetek wodnych i tarcz nalewowych w biegu bojowym\, zastąpione zostały pompkami na powietrze oraz balonami\, które trzeba napompować aż do pęknięcia. \n5 marca 2023 r. w zawodach weźmie udział 17 drużyn mieszanych\, 5 dziewczęcych i 6 dziecięcych. Zostaną przeprowadzone na dwóch halach sportowych w Wieliszewie.
URL:https://zosprp.pl/wydarzenie/ii-ogolnopolskie-halowe-zawody-mdp/
LOCATION:Wieliszew
END:VEVENT
END:VCALENDAR