BEGIN:VCALENDAR
VERSION:2.0
PRODID:-//ZOSPRP - ECPv6.14.0//NONSGML v1.0//EN
CALSCALE:GREGORIAN
METHOD:PUBLISH
X-WR-CALNAME:ZOSPRP
X-ORIGINAL-URL:https://zosprp.pl
X-WR-CALDESC:Wydarzenia dla ZOSPRP
REFRESH-INTERVAL;VALUE=DURATION:PT1H
X-Robots-Tag:noindex
X-PUBLISHED-TTL:PT1H
BEGIN:VTIMEZONE
TZID:Europe/Warsaw
BEGIN:DAYLIGHT
TZOFFSETFROM:+0100
TZOFFSETTO:+0200
TZNAME:CEST
DTSTART:20240331T010000
END:DAYLIGHT
BEGIN:STANDARD
TZOFFSETFROM:+0200
TZOFFSETTO:+0100
TZNAME:CET
DTSTART:20241027T010000
END:STANDARD
END:VTIMEZONE
BEGIN:VEVENT
DTSTART;VALUE=DATE:20240721
DTEND;VALUE=DATE:20240729
DTSTAMP:20260423T185846
CREATED:20240213T091100Z
LAST-MODIFIED:20240715T105237Z
UID:12800-1721520000-1722211199@zosprp.pl
SUMMARY:Olimpiada CTIF - TRENTINO
DESCRIPTION:XXIV Międzynarodowa Olimpiada Młodzieżowych Drużyn Pożarniczych tym roku odbędzie się w regionie Trentino we Włoszech w miejscowości Borgo Valsugana w dniach 21-28.07.2024. Wezmą w niej udział dziewczęta i chłopcy w wieku 10‒16 lat. Polskę i Związek OSP RP reprezentować będą Młodzieżowe Drużyny Pożarnicze które w ubiegłym roku wygrały zawody krajowe: MDP Głuchów woj. wielkopolskie\, MDP Wysokienice woj. łódzkie i MDP Przytkowice woj. małopolskie. \nPodczas Olimpiady rozgrywane są następujące konkurencje: ćwiczenie bojowe\, sztafeta z przeszkodami 400m. \nhttps://www.ctif2024.com/
URL:https://zosprp.pl/wydarzenie/olimpiada-ctif-slowenia/
LOCATION:Borgo Valsugana\, Borgo Valsugana\, Trentino\, Italy
END:VEVENT
END:VCALENDAR